BEGIN:VCALENDAR
VERSION:2.0
PRODID:-//wp-events-plugin.com//7.0.2//EN
TZID:Europe/Madrid
X-WR-TIMEZONE:Europe/Madrid
BEGIN:VEVENT
UID:344@aegve.es
DTSTART;TZID=Europe/Madrid;VALUE=DATE:20260611
DTEND;TZID=Europe/Madrid;VALUE=DATE:20260612
DTSTAMP:20260113T124928Z
URL:https://aegve.es/events/jornada-valencia/
SUMMARY:Jornada Valencia
DESCRIPTION:
CATEGORIES:Jornadas y Seminarios
END:VEVENT
BEGIN:VTIMEZONE
TZID:Europe/Madrid
X-LIC-LOCATION:Europe/Madrid
BEGIN:DAYLIGHT
DTSTART:20260329T030000
TZOFFSETFROM:+0100
TZOFFSETTO:+0200
TZNAME:CEST
END:DAYLIGHT
END:VTIMEZONE
END:VCALENDAR