BEGIN:VCALENDAR
VERSION:2.0
PRODID:-//wp-events-plugin.com//7.0.2//EN
TZID:Europe/Madrid
X-WR-TIMEZONE:Europe/Madrid
BEGIN:VEVENT
UID:335@aegve.es
DTSTART;TZID=Europe/Madrid:20260429T100000
DTEND;TZID=Europe/Madrid:20260429T130000
DTSTAMP:20260327T101709Z
URL:https://aegve.es/events/jornada-bilbao/
SUMMARY:Jornada Bilbao
DESCRIPTION:El próximo 29 de abril celebraremos en Bilbao la primera j
 ornada del año de la Asociación en Euskadi\, un encuentro pensado para 
 compartir visión\, analizar la situación del sector y seguir avanzando j
 untos en los retos de este años.\n\nDurante la jornada tendremos la oport
 unidad de:\n\n 	Presentar los objetivos para 2026de la Asociación.\n 	Ac
 tualizar situación de crisisen Oriente Medio.\n 	Compartir y analizar l
 a situación actual del sectordesde distintas perspectivas.\n 	Conocer el 
 avance de los grupos de trabajo de AEGVEy las líneas en las que estamos 
 definiendo necesidades y buscando soluciones.\n 	Recordar los casos de é
 xito y premiosotorgados por los travel managers el pasado mes de diciembre
 .\n\nAdemás\, será un buen momento para reencontrarnos\, intercambiar i
 deas y reforzar la colaboración entre todos los miembros de la asociació
 n.\n\nHorario:\n10:00 h – Desayuno y networking\n10:30 h – Inicio de l
 a jornada\n13:00 h – Cierre del encuentro\n\nEsperamos verte allí.\n\n\
 n\n\n
ATTACH;FMTTYPE=image/jpeg:https://aegve.es/wp-content/uploads/2026/01/jorn
 ada-aegve-2026-thumb.jpg
CATEGORIES:Jornadas y Seminarios
LOCATION:Eurostars Hotel Indautxu\, Plaza Bombero Etxaniz\, s/n\, Bilbao\, 
 48010\, Euskadi\, España
GEO:43.260969;-2.948562
X-APPLE-STRUCTURED-LOCATION;VALUE=URI;X-ADDRESS=Plaza Bombero Etxaniz\, s/n
 \, Bilbao\, 48010\, Euskadi\, España;X-APPLE-RADIUS=100;X-TITLE=Eurostars
  Hotel Indautxu:geo:43.260969,-2.948562
END:VEVENT
BEGIN:VTIMEZONE
TZID:Europe/Madrid
X-LIC-LOCATION:Europe/Madrid
BEGIN:DAYLIGHT
DTSTART:20260329T030000
TZOFFSETFROM:+0100
TZOFFSETTO:+0200
TZNAME:CEST
END:DAYLIGHT
END:VTIMEZONE
END:VCALENDAR