BEGIN:VCALENDAR
VERSION:2.0
PRODID:-//wp-events-plugin.com//7.0.2//EN
TZID:Europe/Madrid
X-WR-TIMEZONE:Europe/Madrid
BEGIN:VEVENT
UID:6@aegve.es
DTSTART;TZID=Europe/Madrid;VALUE=DATE:20170314
DTEND;TZID=Europe/Madrid;VALUE=DATE:20170315
DTSTAMP:20170428T092053Z
URL:https://aegve.es/events/invitacion-wanda-metropolitano-solo-socios-aeg
 ve/
SUMMARY:Invitación Wanda Metropolitano. Solo socios AEGVE
DESCRIPTION:¿Eres colchonero? ¿Te gusta el fútbol? Quieres visitar el nu
 evo estadio del Atleti en primicia. ¡Toma nota!\n\nDespués de nuestra in
 vitación a la Euroliga de Baloncesto\, llega otro acto en exclusiva para 
 nuestros socios Travel Managers.\n\nEl próximo martes día 14 de marzo a 
 partir de las 13.00 horas y sólo para socios Travel Managers de nuestra a
 sociación\, podrán asistir a conocer el nuevo estadio del equipo Atléti
 co de Madrid\, Wanda Metropolitano.\n\nNEPTUNO nos invita a conocer de pri
 mera mano todas las instalaciones del nuevo estadio: Wanda Metropolitano\,
  que será inaugurado en éste verano. ¡Sólo disponemos de un total de 1
 5 plazas! ¡Reserva la tuya!\n\n
CATEGORIES:Jornadas y Seminarios
END:VEVENT
BEGIN:VTIMEZONE
TZID:Europe/Madrid
X-LIC-LOCATION:Europe/Madrid
BEGIN:STANDARD
DTSTART:20161030T020000
TZOFFSETFROM:+0200
TZOFFSETTO:+0100
TZNAME:CET
END:STANDARD
END:VTIMEZONE
END:VCALENDAR