BEGIN:VCALENDAR
VERSION:2.0
PRODID:-//wp-events-plugin.com//7.0.2//EN
TZID:Europe/Madrid
X-WR-TIMEZONE:Europe/Madrid
BEGIN:VEVENT
UID:331@aegve.es
DTSTART;TZID=Europe/Madrid;VALUE=DATE:20260210
DTEND;TZID=Europe/Madrid;VALUE=DATE:20260211
DTSTAMP:20260204T151733Z
URL:https://aegve.es/events/chatham-barcelona-7/
SUMMARY:Chatham Barcelona
DESCRIPTION:
ATTACH;FMTTYPE=image/jpeg:https://aegve.es/wp-content/uploads/2024/02/chat
 ham-barcelona-thumb.jpg
CATEGORIES:Otros eventos
END:VEVENT
BEGIN:VTIMEZONE
TZID:Europe/Madrid
X-LIC-LOCATION:Europe/Madrid
BEGIN:STANDARD
DTSTART:20251026T020000
TZOFFSETFROM:+0200
TZOFFSETTO:+0100
TZNAME:CET
END:STANDARD
END:VTIMEZONE
END:VCALENDAR